25.000000000000000
0.000000000000000
0.000000000000000
-25.000000000000000
553787.5000000000
6766812.5000000000
