25.000000000000000
0.000000000000000
0.000000000000000
-25.000000000000000
552087.5000000000
6878112.5000000000
