25.000000000000000
0.000000000000000
0.000000000000000
-25.000000000000000
550362.5000000000
6989437.5000000000
