25.000000000000000
0.000000000000000
0.000000000000000
-25.000000000000000
447312.5000000000
6986287.5000000000
