25.000000000000000
0.000000000000000
0.000000000000000
-25.000000000000000
548612.5000000000
7100762.5000000000
