25.000000000000000
0.000000000000000
0.000000000000000
-25.000000000000000
452537.5000000000
7320562.5000000000
