25.000000000000000
0.000000000000000
0.000000000000000
-25.000000000000000
543312.5000000000
7434837.5000000000
