25.000000000000000
0.000000000000000
0.000000000000000
-25.000000000000000
456087.5000000000
7543512.5000000000
