25.000000000000000
0.000000000000000
0.000000000000000
-25.000000000000000
443912.5000000000
6763512.5000000000
