25.000000000000000
0.000000000000000
0.000000000000000
-25.000000000000000
450787.5000000000
7209137.5000000000
