17.9777421844
0.0000000000
0.0000000000
-17.9777421844
1018195.3037965955
331298.8403733145
