17.8177527938
0.0000000000
0.0000000000
-17.8177527938
1120851.3923391963
461984.9605047344
