17.6553269807
0.0000000000
0.0000000000
-17.6553269807
874067.3942078741
532794.9296354927
