17.9774312159
0.0000000000
0.0000000000
-17.9774312159
530575.7259610711
281276.9116145361
