17.5942502094
0.0000000000
0.0000000000
-17.5942502094
383846.9705588258
501824.0051547202
