16.0000000000
0.0000000000
0.0000000000
-16.0000000000
418696.0000000000
834872.0000000000
