16.0000000000
0.0000000000
0.0000000000
-16.0000000000
423976.0000000000
1057944.0000000000
