30.0000000000
0.0000000000
0.0000000000
-30.0000000000
132855.0000000000
631125.0000000000
