16.0000000000
0.0000000000
0.0000000000
-16.0000000000
30776.0000000000
753336.0000000000
