16.0000000000
0.0000000000
0.0000000000
-16.0000000000
55896.0000000000
974280.0000000000
