16.0000000000
0.0000000000
0.0000000000
-16.0000000000
121112.0000000000
1078728.0000000000
