16.0000000000
0.0000000000
0.0000000000
-16.0000000000
250840.0000000000
1402424.0000000000
