30.0000000000
0.0000000000
0.0000000000
-30.0000000000
144525.0000000000
1638795.0000000000
