30.0000000000
0.0000000000
0.0000000000
-30.0000000000
199215.0000000000
1744275.0000000000
