1.0000000000
0.0000000000
0.0000000000
-1.0000000000
535000.5000000000
6710999.5800000001
