2.0000000000
0.0000000000
0.0000000000
-2.0000000000
514000.9900000000
6671999.0000000000
