0.10000000
0.00000000
0.00000000
-0.10000000
509000.0500
6653999.9500
