0.10000000
0.00000000
0.00000000
-0.10000000
513000.0500
6654999.9500
