0.10000000
0.00000000
0.00000000
-0.10000000
507000.0500
6655999.9500
