0.10000000
0.00000000
0.00000000
-0.10000000
514000.0500
6655768.8500
