0.10000000
0.00000000
0.00000000
-0.10000000
505000.0500
6658999.9500
