1.0000000000
0.0000000000
0.0000000000
-1.0000000000
504000.5000000000
6658999.7199999997
