0.2500000000
0.0000000000
0.0000000000
-0.2500000000
575001.4040667360
7106998.4752408070
