1.0000000000
0.0000000000
0.0000000000
-1.0000000000
453000.5000000000
7053999.5000000000
