1.0000000000
0.0000000000
0.0000000000
-1.0000000000
494922.5375000000
6736088.1138000004
