0.2
0
0
-0.2
527000.1
6713999.9
