0.2
0
0
-0.2
528000.1
6710999.9
