0.2
0
0
-0.2
529000.1
6716999.9
