0.2
0
0
-0.2
531000.1
6713999.9
